BEGIN:VCALENDAR
VERSION:2.0
PRODID:http://www.katholisch-am-brauneberg.de
BEGIN:VEVENT
UID:250f8eb6-3fab-11f1-a3e9-0242ac11002b-1779258600000-de
DTSTAMP:20260424T065931Z
DTSTART:20260520T063000Z
DTEND:20260520T073000Z
SUMMARY;LANGUAGE=de:Andacht der Pfarreiengemeinschaft Nordendorf-Westendorf
END:VEVENT
END:VCALENDAR
