BEGIN:VCALENDAR
VERSION:2.0
PRODID:http://www.katholisch-am-brauneberg.de
BEGIN:VEVENT
UID:2de83cfa-3fae-11f1-a3e9-0242ac11002b-1779469200000-de
DTSTAMP:20260424T072115Z
DTSTART:20260522T170000Z
DTEND:20260522T190000Z
SUMMARY;LANGUAGE=de:Konzert des Frauenchores "Vocal Voices" anlässl. des Jubiläums "100 Jahre Ortsname Brauneberg"
END:VEVENT
END:VCALENDAR
