BEGIN:VCALENDAR
VERSION:2.0
PRODID:http://www.katholisch-am-brauneberg.de
BEGIN:VEVENT
UID:32239982-3faa-11f1-a3e9-0242ac11002b-1778398200000-de
DTSTAMP:20260424T065244Z
DTSTART:20260510T073000Z
DTEND:20260510T083000Z
SUMMARY;LANGUAGE=de:Hl. Messe mitgestaltet vom Chor "CHORios", anschl. "Kuchen gegen Spende" des Chores
END:VEVENT
END:VCALENDAR
