BEGIN:VCALENDAR
VERSION:2.0
PRODID:http://www.katholisch-am-brauneberg.de
BEGIN:VEVENT
UID:34c20ab7-29d9-11f1-a21a-0242ac11002b-1776960000000-de
DTSTAMP:20260327T123349Z
DTSTART:20260423T160000Z
DTEND:20260423T180000Z
SUMMARY;LANGUAGE=de:Hl. Messe zum Patronatsfest der Kirche St. Georg, anschl. Begegnung und Umtrunk
END:VEVENT
END:VCALENDAR
