BEGIN:VCALENDAR
VERSION:2.0
PRODID:http://www.katholisch-am-brauneberg.de
BEGIN:VEVENT
UID:66d1df76-3fa5-11f1-a3e9-0242ac11002b-1777622400000-de
DTSTAMP:20260424T061825Z
DTSTART:20260501T080000Z
DTEND:20260501T090000Z
SUMMARY;LANGUAGE=de:Hl. Messe am Patronatsfest der Kapelle St. Josef (Bei trockenem Wetter findet der Gottesdienst neben der Kapelle im Freien statt.) anschl. Begegnung mit Maibowle und kleinen Snacks
END:VEVENT
END:VCALENDAR
