BEGIN:VCALENDAR
VERSION:2.0
PRODID:http://www.katholisch-am-brauneberg.de
BEGIN:VEVENT
UID:6834aef6-3fa6-11f1-a3e9-0242ac11002b-1777993200000-de
DTSTAMP:20260424T062537Z
DTSTART:20260505T150000Z
DTEND:20260505T153000Z
SUMMARY;LANGUAGE=de:Maiandacht im Anschluss an den "Usener Kaffee Klatsch"
END:VEVENT
END:VCALENDAR
