BEGIN:VCALENDAR
VERSION:2.0
PRODID:http://www.katholisch-am-brauneberg.de
BEGIN:VEVENT
UID:8cb75079-3faa-11f1-a3e9-0242ac11002b-1778749200000-de
DTSTAMP:20260424T065516Z
DTSTART:20260514T090000Z
DTEND:20260514T100000Z
SUMMARY;LANGUAGE=de:Hl. Messe zum Hochfest Christi Himmelfahrt
END:VEVENT
END:VCALENDAR
