BEGIN:VCALENDAR
VERSION:2.0
PRODID:http://www.katholisch-am-brauneberg.de
BEGIN:VEVENT
UID:c0290522-3faa-11f1-a3e9-0242ac11002b-1779116400000-de
DTSTAMP:20260424T065642Z
DTSTART:20260518T150000Z
DTEND:20260518T170000Z
SUMMARY;LANGUAGE=de:Maiandacht an der Marienkapelle (bei Regen in der Kirche!), anschl. Begegnung und Umtrunk
END:VEVENT
END:VCALENDAR
