BEGIN:VCALENDAR
VERSION:2.0
PRODID:http://www.katholisch-am-brauneberg.de
BEGIN:VEVENT
UID:df3d5402-3fa8-11f1-a3e9-0242ac11002b-1778421600000-de
DTSTAMP:20260424T064315Z
DTSTART:20260510T140000Z
DTEND:20260510T160000Z
SUMMARY;LANGUAGE=de:Frühlingskonzert des Musikverein Maring-Noviand
END:VEVENT
END:VCALENDAR
