BEGIN:VCALENDAR
VERSION:2.0
PRODID:http://www.katholisch-am-brauneberg.de
BEGIN:VEVENT
UID:53dba888-3fb9-11f1-a3e9-0242ac11002b-1778421600000-de
DTSTAMP:20260424T084103Z
DTSTART:20260510T140000Z
DTEND:20260510T160000Z
SUMMARY;LANGUAGE=de:Frühlingskonzert des Musikverein Maring-Noviand in der Kirche St. Remigius Maring
IMAGE;VALUE=URI;DISPLAY=BADGE;FMTTYPE=image/jpeg:http://www.katholisch-am-brauneberg.de/export/sites/pfarreien/pfarrei-st.-matthias-rechts-und-links-der-mosel/.galleries/bilder/Fruehlingskonzert-10.05.2026-Maring-Noviand.png
END:VEVENT
END:VCALENDAR
