BEGIN:VCALENDAR
VERSION:2.0
PRODID:http://www.katholisch-am-brauneberg.de
BEGIN:VEVENT
UID:64091388-3fb6-11f1-a3e9-0242ac11002b-1778398200000-de
DTSTAMP:20260424T082002Z
DTSTART:20260510T073000Z
DTEND:20260510T090000Z
SUMMARY;LANGUAGE=de:CHORios e. V. singt im Gottesdienst in der Kirche St. Nikolaus in Monzel
DESCRIPTION;LANGUAGE=de:CHORios e. V. singt im Gottesdienst in der Kirche St. Nikolaus in Monzel\nam 10. Mai 2026 um 9.30 Uhr\nMuttertag! Wir haben diesen besonderen Tag gewählt und möchten allen\nMüttern\, und natürlich allen anderen Gottesdienstbesuchern auch\, an diesem Tag eine besondere Freude machen.\nNach dem Gottesdienst gibt es vor der Kirche (bei gutem Wetter) oder im hinteren Teil der Kirche (bei schlechtem Wetter) selbstgebackenen Kuchen gegen eine Spende.\nWir freuen uns auf alle! Gerti Karnik-Sprenger\, CHORios e. V.
IMAGE;VALUE=URI;DISPLAY=BADGE;FMTTYPE=image/jpeg:http://www.katholisch-am-brauneberg.de/export/sites/pfarreien/pfarrei-st.-matthias-rechts-und-links-der-mosel/.galleries/bilder/CHORios-singt-10.05.2026.png
END:VEVENT
END:VCALENDAR
