BEGIN:VCALENDAR
VERSION:2.0
PRODID:http://www.katholisch-am-brauneberg.de
BEGIN:VEVENT
UID:980076ee-3fba-11f1-a3e9-0242ac11002b-1779469200000-de
DTSTAMP:20260424T085007Z
DTSTART:20260522T170000Z
DTEND:20260522T190000Z
SUMMARY;LANGUAGE=de:Konzert des Frauenchores "Vocal Voices" in der Kirche St. Remigius Brauneberg, anlässl. d. Jubiläums "100 Jahre Ortsname Bauneberg"
IMAGE;VALUE=URI;DISPLAY=BADGE;FMTTYPE=image/jpeg:http://www.katholisch-am-brauneberg.de/export/sites/pfarreien/pfarrei-st.-matthias-rechts-und-links-der-mosel/.galleries/bilder/Konzert-Vocal-Voices-22.05.2026-Brauneberg.png
END:VEVENT
END:VCALENDAR
